BEGIN:VCALENDAR
VERSION:2.0
PRODID:Events Booking
BEGIN:VEVENT
UID:69ebf06eeef71
SUMMARY:Symex 2023 in Yogyakarta
DESCRIPTION:Project Management Institute Indonesia Chapter invites you to t
 he 11th Symposium and Exhibition on Project Management (Symex 2023) in the
  city of Yogyakarta\, Indonesia. The event will take place on 3-4 October 
 2023. This two-day symposium is themed with \"Leading Change: Transforming
  Organizations\, Delivering Results\"\, and packed with knowledge on key t
 opics in project management.&nbsp\;
LOCATION:Yogyakarta\, Yogyakarta City\, Special Region of Yogyakarta\, Indo
 nesia
DTSTART:20231003T010000Z
DTEND:20231004T090000Z
DTSTAMP:20260424T223630Z
ORGANIZER;CN=PMI Indonesia:MAILTO:event@pmi-indonesia.org
GEO:-7.79558;110.36949
X-APPLE-STRUCTURED-LOCATION;VALUE=URI;X-ADDRESS=Yogyakarta\, Yogyakarta Cit
 y\, Special Region of Yogyakarta\, Indonesia;X-APPLE-RADIUS=72;X-TITLE=Yog
 yakarta:-7.79558;110.36949
END:VEVENT
END:VCALENDAR