BEGIN:VCALENDAR
VERSION:2.0
PRODID:Events Booking
BEGIN:VEVENT
UID:69ed232808475
SUMMARY:Symex 2022 in Bandung
DESCRIPTION:Project Management Institute Indonesia Chapter will organize th
 e 10th Symposium and Exhibition on Project Management (Symex 2022) in the 
 city of Bandung \, West Java\, Indonesia. The event will take place on 5-6
  October 2022. This two-day symposium is themed as \"Faster. Higher. Stron
 ger-Together\"\, and packed with knowledge on key topics in project manage
 ment. An online track is also available and takes place on 4 October 2022.
LOCATION:Bandung\, Bandung City\, West Java\, Indonesia
DTSTART:20221005T010000Z
DTEND:20221006T090000Z
DTSTAMP:20260425T202512Z
ORGANIZER;CN=PMI Indonesia:MAILTO:event@pmi-indonesia.org
GEO:-6.917464;107.619123
X-APPLE-STRUCTURED-LOCATION;VALUE=URI;X-ADDRESS=Bandung\, Bandung City\, We
 st Java\, Indonesia;X-APPLE-RADIUS=72;X-TITLE=Bandung\, West Java:-6.91746
 4;107.619123
END:VEVENT
END:VCALENDAR