BEGIN:VCALENDAR
VERSION:2.0
PRODID:Events Booking
BEGIN:VEVENT
UID:69ed50d1a599a
SUMMARY:Dealing with Subcontractor as Your Resources in Projects
DESCRIPTION:There is time when company cannot provide internal resources. I
 n some case\, the “ninja” way is to delegate the task to subcontractor
 s. Initially this will work well when the type of work is only delegate an
 d can still be controlled by the internal team\, but it will be a big prob
 lem when the process is completely given to the subcontractor team and no 
 team in internal is able to validate what is being done. How do we work on
  a project of this type? PRANKS this time will try to explore
 this probl
 em and share tips and tricks about this
LOCATION:Jakarta\, Indonesia
DTSTART:20220825T120000Z
DTEND:20220825T140000Z
DTSTAMP:20260425T234001Z
ORGANIZER;CN=PMI Indonesia:MAILTO:event@pmi-indonesia.org
GEO:-6.208763;106.845599
X-APPLE-STRUCTURED-LOCATION;VALUE=URI;X-ADDRESS=Jakarta\, Indonesia;X-APPLE
 -RADIUS=72;X-TITLE=Online Webinar:-6.208763;106.845599
END:VEVENT
END:VCALENDAR