BEGIN:VCALENDAR
VERSION:2.0
PRODID:Events Booking
BEGIN:VEVENT
UID:69ed504d317b5
SUMMARY:Integration of Schedule and Risk to Perform Quantitative Project Ri
 sk Analysis
DESCRIPTION:Project risk is an uncertain event or condition that\, if it oc
 curs\, has a positive or negative effect on one or more project objectives
  such as scope\, schedule\, cost\, and quality. Quantitative Project Risk 
 Analysis is a tools for quantifying project risk on term of time and cost.
  By performing risk analysis on project schedule\, project team will able 
 to know probability to achieve the plan on schedule\, reveal hidden critic
 al path\, bring realistic forecast\, identify and manage critical and sens
 itive activities on your schedule\, and manage contingency.
LOCATION:Jakarta\, Indonesia
DTSTART:20220811T120000Z
DTEND:20220811T140000Z
DTSTAMP:20260425T233749Z
ORGANIZER;CN=PMI Indonesia:MAILTO:event@pmi-indonesia.org
GEO:-6.208763;106.845599
X-APPLE-STRUCTURED-LOCATION;VALUE=URI;X-ADDRESS=Jakarta\, Indonesia;X-APPLE
 -RADIUS=72;X-TITLE=Online Webinar:-6.208763;106.845599
END:VEVENT
END:VCALENDAR