BEGIN:VCALENDAR
VERSION:2.0
PRODID:Events Booking
BEGIN:VEVENT
UID:69ed3c04b3f6b
SUMMARY:Project Management Challenge 2022
DESCRIPTION:Project Management Challenge (PMC) is an award winning contest 
 organized by the Project Management Institute Indonesia Chapter.
 This is
  an open invitation to students around the world to participate and try ou
 t their project management skills to plan a project that aligns with the U
 N Sustainable Development Goals (SDGs).&nbsp\;
 The registration is open 
 and selected entries (top 10) will be invited to attend the peak event in 
 Bandung\, West Java\, Indonesia. Sign up your teams today!
LOCATION:Bandung\, Bandung City\, West Java\, Indonesia
DTSTART:20220921T170000Z
DTEND:20220923T170000Z
DTSTAMP:20260425T221116Z
ORGANIZER;CN=PMI Indonesia:MAILTO:event@pmi-indonesia.org
GEO:-6.917464;107.619123
X-APPLE-STRUCTURED-LOCATION;VALUE=URI;X-ADDRESS=Bandung\, Bandung City\, We
 st Java\, Indonesia;X-APPLE-RADIUS=72;X-TITLE=Bandung\, West Java:-6.91746
 4;107.619123
END:VEVENT
END:VCALENDAR