BEGIN:VCALENDAR
VERSION:2.0
PRODID:Events Booking
BEGIN:VEVENT
UID:69ed0b5207bea
SUMMARY:Developing A Product that the Market Wants
DESCRIPTION:&nbsp\;
 Developing product is very important for all organiza
 tion. Everything must have their own strategies and really user oriented. 
 In this session we will learn on how to build such a great product that us
 er really wanted and not based on your assumption\, your company assumptio
 n but that of the users.
 The session will be in&nbsp\;Bahasa Indonesia
LOCATION:Jakarta\, Indonesia
DTSTART:20221117T120000Z
DTEND:20221117T140000Z
DTSTAMP:20260425T184330Z
ORGANIZER;CN=PMI Indonesia:MAILTO:event@pmi-indonesia.org
GEO:-6.208763;106.845599
X-APPLE-STRUCTURED-LOCATION;VALUE=URI;X-ADDRESS=Jakarta\, Indonesia;X-APPLE
 -RADIUS=72;X-TITLE=Online Webinar:-6.208763;106.845599
END:VEVENT
END:VCALENDAR