BEGIN:VCALENDAR
VERSION:2.0
PRODID:Events Booking
BEGIN:VEVENT
UID:69ed3c3918f9a
SUMMARY:Using Power BI in Project Control
DESCRIPTION:This session is free for everybody !!!
 Key Takeaways from the
  Webinar
 1. The future of systems and automations in project control. Wh
 y do we need them more than
 ever?
 2. The practical applications of Pow
 er BI in planning. How can we use Power BI to prepare
 reports in seconds
  and analyze projects with one click?
 3. Why do we choose Power BI over 
 other tools?
 4. What problems can we solve in project control with Power
  BI?
 5. The consequences of not using Power BI or any automation tool.

  6. The practical benefits of using Power BI by planning departments.
LOCATION:Jakarta\, Indonesia
DTSTART:20220908T120000Z
DTEND:20220908T140000Z
DTSTAMP:20260425T221209Z
ORGANIZER;CN=PMI Indonesia:MAILTO:event@pmi-indonesia.org
GEO:-6.208763;106.845599
X-APPLE-STRUCTURED-LOCATION;VALUE=URI;X-ADDRESS=Jakarta\, Indonesia;X-APPLE
 -RADIUS=72;X-TITLE=Online Webinar:-6.208763;106.845599
END:VEVENT
END:VCALENDAR