BEGIN:VCALENDAR
VERSION:2.0
PRODID:Events Booking
BEGIN:VEVENT
UID:69ed224296be8
SUMMARY:The Project Manager Way of Life
DESCRIPTION:This session is free for everybody !!!
 Project Management is 
 the knowledge and ability to make things go according to plan\, by managin
 g various available resources\, time\, quality and budget. But Project Man
 agers often forget to manage their lives\, either because of pressure from
  work and superiors or other things that interfere. How about at the end o
 f the career of a Project Manager\, will it be Happy Ending\, or will it s
 till be a struggle?
 The session will be in&nbsp\;Bahasa Indonesia.
LOCATION:Jakarta\, Indonesia
DTSTART:20221027T120000Z
DTEND:20221027T140000Z
DTSTAMP:20260425T202122Z
ORGANIZER;CN=PMI Indonesia:MAILTO:event@pmi-indonesia.org
GEO:-6.208763;106.845599
X-APPLE-STRUCTURED-LOCATION;VALUE=URI;X-ADDRESS=Jakarta\, Indonesia;X-APPLE
 -RADIUS=72;X-TITLE=Online Webinar:-6.208763;106.845599
END:VEVENT
END:VCALENDAR