BEGIN:VCALENDAR
VERSION:2.0
PRODID:Events Booking
BEGIN:VEVENT
UID:69ed0ad604391
SUMMARY:PMP Study Group Season 20
DESCRIPTION:Study Group Season 20 is here!
 Our SG is one of our most anti
 cipated program. The last study group that we ran had 100% success rate on
  first attempt.Registration is open for mentees who have the commitment an
 d drive\, and we are also inviting mentors to give back to the community.
 
 *** Registration is currently closed ***
DTSTART:20221104T170000Z
DTEND:20230217T170000Z
DTSTAMP:20260425T184126Z
ORGANIZER;CN=PMI Indonesia:MAILTO:event@pmi-indonesia.org
END:VEVENT
END:VCALENDAR