BEGIN:VCALENDAR
VERSION:2.0
PRODID:Events Booking
BEGIN:VEVENT
UID:69ed0607ba4f5
SUMMARY:PMI Indonesia Chapter Call for Volunteers 2023
DESCRIPTION:CONTRIBUTE and GIVE BACK to the project management community th
 rough volunteering at PMI Indonesia Chapter. It is a rewarding experience\
 , offering an exceptional opportunity to collaborate with other profession
 als\, networking\, voice your opinion and shape the project management com
 munity in Indonesia..
DTSTART:20221105T170000Z
DTEND:20221125T165500Z
DTSTAMP:20260425T182055Z
ORGANIZER;CN=PMI Indonesia:MAILTO:event@pmi-indonesia.org
END:VEVENT
END:VCALENDAR