BEGIN:VCALENDAR
VERSION:2.0
PRODID:Events Booking
BEGIN:VEVENT
UID:69ecc0424bc7a
SUMMARY:Contribution to Sustainability Through Project Management
DESCRIPTION:This session is free for everybody !!!
 
 
 Project manageme
 nt MAKEs a difference. Project management is not about the triple constrai
 nt (scope\, cost\, schedule)\, project management goes beyond that. It is 
 a key profession that can make a huge positive impact in our world if we a
 pply a sustainable approach. If you want to learn more about sustainable p
 roject management and projects that are making a positive impact in our wo
 rld\, don´t miss this session!
 
 &nbsp\;
 
 The session will be in E
 nglish
LOCATION:Jakarta\, Indonesia
DTSTART:20230228T120000Z
DTEND:20230228T140000Z
DTSTAMP:20260425T132314Z
ORGANIZER;CN=PMI Indonesia:MAILTO:event@pmi-indonesia.org
GEO:-6.208763;106.845599
X-APPLE-STRUCTURED-LOCATION;VALUE=URI;X-ADDRESS=Jakarta\, Indonesia;X-APPLE
 -RADIUS=72;X-TITLE=Online Webinar:-6.208763;106.845599
END:VEVENT
END:VCALENDAR