BEGIN:VCALENDAR
VERSION:2.0
PRODID:Events Booking
BEGIN:VEVENT
UID:69ed6a1caef43
SUMMARY:The Construction of Pertamina International Street Circuit Mandalik
 a
DESCRIPTION:Host to the 2021 Superbike and 2022 MotoGP series\, the Mandali
 ka circuit was constructed in just over a year. Located along the beautifu
 l coastline of West Nusa Tenggara\, many challenges were overcome in manag
 ing the construction project\, from the technical and geological aspects t
 o stakeholders management.
LOCATION:Jakarta\, Indonesia
DTSTART:20220715T120000Z
DTEND:20220715T140000Z
DTSTAMP:20260426T012756Z
ORGANIZER;CN=PMI Indonesia:MAILTO:event@pmi-indonesia.org
GEO:-6.208763;106.845599
X-APPLE-STRUCTURED-LOCATION;VALUE=URI;X-ADDRESS=Jakarta\, Indonesia;X-APPLE
 -RADIUS=72;X-TITLE=Virtual:-6.208763;106.845599
END:VEVENT
END:VCALENDAR