BEGIN:VCALENDAR
VERSION:2.0
PRODID:Events Booking
BEGIN:VEVENT
UID:69ececce3c988
SUMMARY:Hybrid project Management
DESCRIPTION:&nbsp\;
 This session will discuss the differences between uti
 lizing a traditional\, adaptive or hybrid approach and the benefits of inc
 orporating the different approaches. Project planning is modified to not j
 ust be an activity performed at the beginning of the project\, but rather 
 a continuing activity to enable adjustments and modifications as they aris
 e.
 The session will be in&nbsp\;English
LOCATION:Jakarta\, Indonesia
DTSTART:20221215T120000Z
DTEND:20221215T140000Z
DTSTAMP:20260425T163318Z
ORGANIZER;CN=PMI Indonesia:MAILTO:event@pmi-indonesia.org
GEO:-6.208763;106.845599
X-APPLE-STRUCTURED-LOCATION;VALUE=URI;X-ADDRESS=Jakarta\, Indonesia;X-APPLE
 -RADIUS=72;X-TITLE=Online Webinar:-6.208763;106.845599
END:VEVENT
END:VCALENDAR