BEGIN:VCALENDAR
VERSION:2.0
PRODID:Events Booking
BEGIN:VEVENT
UID:69ed3b7cdb721
SUMMARY:Empowered Individuals - Building Blocks of An Effective Team
DESCRIPTION:This session is free for everybody !!!
 &nbsp\;
 Team&nbsp\;e
 ffectiveness&nbsp\;holds&nbsp\;the key towards successful project deliveri
 es. No matter how competent and capable the managers are\, it is the&nbsp\
 ;people who execute the works have the ultimate control of the output. Her
 e we will explore how&nbsp\;to&nbsp\;empower individuals&nbsp\;to boost th
 eir effectiveness as a team that in return will maximize their outcomes.
LOCATION:Jakarta\, Indonesia
DTSTART:20220922T120000Z
DTEND:20220922T140000Z
DTSTAMP:20260425T220900Z
ORGANIZER;CN=PMI Indonesia:MAILTO:event@pmi-indonesia.org
GEO:-6.208763;106.845599
X-APPLE-STRUCTURED-LOCATION;VALUE=URI;X-ADDRESS=Jakarta\, Indonesia;X-APPLE
 -RADIUS=72;X-TITLE=Online Webinar:-6.208763;106.845599
END:VEVENT
END:VCALENDAR