BEGIN:VCALENDAR
VERSION:2.0
PRODID:Events Booking
BEGIN:VEVENT
UID:69ececcfd6b8d
SUMMARY:Egg-cellent Project Management
DESCRIPTION:&nbsp\;
 A unique session on what project managers can learn f
 rom chickens. The topic is a blend of ethology
 and project management th
 eory which can be used as inspiration to continuously follow the
 princip
 les. The agenda covers concepts of consistent delivery\, risk mitigation a
 nd many more.
 The session will be in&nbsp\;English
LOCATION:Jakarta\, Indonesia
DTSTART:20221208T120000Z
DTEND:20221208T140000Z
DTSTAMP:20260425T163319Z
ORGANIZER;CN=PMI Indonesia:MAILTO:event@pmi-indonesia.org
GEO:-6.208763;106.845599
X-APPLE-STRUCTURED-LOCATION;VALUE=URI;X-ADDRESS=Jakarta\, Indonesia;X-APPLE
 -RADIUS=72;X-TITLE=Online Webinar:-6.208763;106.845599
END:VEVENT
END:VCALENDAR