BEGIN:VCALENDAR
VERSION:2.0
PRODID:Events Booking
BEGIN:VEVENT
UID:69eca5a8b3d15
SUMMARY:At a Glance: Drug Development Projects
DESCRIPTION:This session is free for everybody !!!
 
 
 The session will
  overview the new drug development process from the pre-clinical trial\, a
 nd clinical trial\, up to the post-approval stage. How many clinical trial
 s that involved?
 What is the success rate of each step and why is the co
 mpany driven to go through each step of the trial?&nbsp\;
 Why do several
  drugs may take more than 10 years? And why several medicines may take les
 s than 1 year?
 
 &nbsp\;
 
 The session will be in English
LOCATION:Jakarta\, Indonesia
DTSTART:20230308T120000Z
DTEND:20230308T140000Z
DTSTAMP:20260425T112944Z
ORGANIZER;CN=PMI Indonesia:MAILTO:event@pmi-indonesia.org
GEO:-6.208763;106.845599
X-APPLE-STRUCTURED-LOCATION;VALUE=URI;X-ADDRESS=Jakarta\, Indonesia;X-APPLE
 -RADIUS=72;X-TITLE=Online Webinar:-6.208763;106.845599
END:VEVENT
END:VCALENDAR