BEGIN:VCALENDAR
VERSION:2.0
PRODID:Events Booking
BEGIN:VEVENT
UID:69ed80a3b4058
SUMMARY:Digital Transformation of Project Management in Tower Bersama Infra
 structure Group
DESCRIPTION:Digital Project Management is the process of organizing and exe
 cuting these digital projects.Digital project management requires strategy
  and diversified skill sets\, The people behind those videos or tools need
 ed to know why they were doing a project\, what benefits it would have\, w
 ho would view their material or use their tool\, and what technology would
  bring it all together and at what cost.
LOCATION:Jakarta\, Indonesia
DTSTART:20220629T120000Z
DTEND:20220629T140000Z
DTSTAMP:20260426T030403Z
ORGANIZER;CN=PMI Indonesia:MAILTO:event@pmi-indonesia.org
GEO:-6.208763;106.845599
X-APPLE-STRUCTURED-LOCATION;VALUE=URI;X-ADDRESS=Jakarta\, Indonesia;X-APPLE
 -RADIUS=72;X-TITLE=Online Webinar:-6.208763;106.845599
END:VEVENT
END:VCALENDAR