BEGIN:VCALENDAR
VERSION:2.0
PRODID:Events Booking
BEGIN:VEVENT
UID:69ed821a18e53
SUMMARY:Have You Ever Jumped From An Airplane? Delivering Complex Projects
DESCRIPTION:Large-Scale Technology Projects are complex and challenging. Ga
 in an insight into how complex projects especially in public sector are di
 fferent and what makes them so complex.
 Come and learn about an exciting
  turnaround of a public sector project that went on for almost a decade wi
 th multiple failures.
LOCATION:Jakarta\, Indonesia
DTSTART:20220606T120000Z
DTEND:20220606T140000Z
DTSTAMP:20260426T031018Z
ORGANIZER;CN=PMI Indonesia:MAILTO:event@pmi-indonesia.org
GEO:-6.208763;106.845599
X-APPLE-STRUCTURED-LOCATION;VALUE=URI;X-ADDRESS=Jakarta\, Indonesia;X-APPLE
 -RADIUS=72;X-TITLE=Online Webinar:-6.208763;106.845599
END:VEVENT
END:VCALENDAR