BEGIN:VCALENDAR
VERSION:2.0
PRODID:Events Booking
BEGIN:VEVENT
UID:69ed69a8268ef
SUMMARY:Effective Cybersecurity Assessment Project Management
DESCRIPTION:Delivering effective cybersecurity assessment is a challenge\, 
 you need to understand the organization business imperative\, local and re
 gional regulatory\, internal and external threats landscape and cybersecur
 ity trend in order to bring cybersecurity roadmap and initiatives into boa
 rd table. This approach will help you to mitigating the heightening risk i
 .e. financial risk\, regulatory risk\, operational risk and reputational r
 isk.
LOCATION:Jakarta\, Indonesia
DTSTART:20220727T120000Z
DTEND:20220627T140000Z
DTSTAMP:20260426T012600Z
ORGANIZER;CN=PMI Indonesia:MAILTO:event@pmi-indonesia.org
GEO:-6.208763;106.845599
X-APPLE-STRUCTURED-LOCATION;VALUE=URI;X-ADDRESS=Jakarta\, Indonesia;X-APPLE
 -RADIUS=72;X-TITLE=Online Webinar:-6.208763;106.845599
END:VEVENT
END:VCALENDAR