BEGIN:VCALENDAR
VERSION:2.0
PRODID:Events Booking
BEGIN:VEVENT
UID:69ecd5e5c1ca0
SUMMARY:Citizen Development - The Missing Link to Digital Transformation Su
 ccess
DESCRIPTION:
 As the race to digital transformation continues\, citizen de
 velopment\, powered by low-code/no-code technologies\, represents the bigg
 est enabler of change&nbsp\;to democratize and decentralize application de
 velopment. 
 The session will be in&nbsp\;English
LOCATION:Jakarta\, Indonesia
DTSTART:20230119T120000Z
DTEND:20230119T140000Z
DTSTAMP:20260425T145533Z
ORGANIZER;CN=PMI Indonesia:MAILTO:event@pmi-indonesia.org
GEO:-6.208763;106.845599
X-APPLE-STRUCTURED-LOCATION;VALUE=URI;X-ADDRESS=Jakarta\, Indonesia;X-APPLE
 -RADIUS=72;X-TITLE=Online Webinar:-6.208763;106.845599
END:VEVENT
END:VCALENDAR