BEGIN:VCALENDAR
VERSION:2.0
PRODID:Events Booking
BEGIN:VEVENT
UID:69ecd6ce18cab
SUMMARY:The Art of Information System Project Management
DESCRIPTION:This session is free for everybody !!!
 Some highlights on our
  session :
 
 Understand the Characteristics and growing need for better
  project management\, especially for information technology (IT) / informa
 tion system (IS) projects
 Describe IT/IS project management key elements
  of the project management methodology\,organization\, including project s
 takeholders\, the project management knowledge areas\, and project success
 
 Provides an explanation of how IT/IS projects vary widely in terms of s
 ize\, complexity\, products produced\, application areas and resources req
 uired
 Challenges and opportunities face IT project managers and their te
 ams in the form of recent trends such as increased globalization\, outsour
 cing\, virtual teams\, and agile project management
 Explanation of the m
 ethodological approach that is suitable for the IT/IS project
 
 The ses
 sion will be in Bahasa Indonesia
LOCATION:Jakarta\, Indonesia
DTSTART:20230126T120000Z
DTEND:20230126T140000Z
DTSTAMP:20260425T145926Z
ORGANIZER;CN=PMI Indonesia:MAILTO:event@pmi-indonesia.org
GEO:-6.208763;106.845599
X-APPLE-STRUCTURED-LOCATION;VALUE=URI;X-ADDRESS=Jakarta\, Indonesia;X-APPLE
 -RADIUS=72;X-TITLE=Online Webinar:-6.208763;106.845599
END:VEVENT
END:VCALENDAR