BEGIN:VCALENDAR
VERSION:2.0
PRODID:Events Booking
BEGIN:VEVENT
UID:69eceddfe97e4
SUMMARY:2022 Members Meet and Greet
DESCRIPTION:We invite all PMI Indonesia Chapter members to gather for a nig
 ht of cozy conversations\, good meal and an opportunity to make new friend
 s or catch up with old ones.
 The event is free of charge for PMI Indones
 ia members.
LOCATION:2\, Jl. Bangka Raya No.7 A\, RW.7\, Pela Mampang\, Kec. Mampang Pr
 pt.\, Kota Jakarta Selatan\, Daerah Khusus Ibukota Jakarta 12730\, Indones
 ia
DTSTART:20221222T113000Z
DTEND:20221222T140000Z
DTSTAMP:20221214T044007Z
ORGANIZER;CN=PMI Indonesia:MAILTO:event@pmi-indonesia.org
GEO:-6.254065;106.814197
X-APPLE-STRUCTURED-LOCATION;VALUE=URI;X-ADDRESS=2\, Jl. Bangka Raya No.7 A\
 , RW.7\, Pela Mampang\, Kec. Mampang Prpt.\, Kota Jakarta Selatan\, Daerah
  Khusus Ibukota Jakarta 12730\, Indonesia;X-APPLE-RADIUS=72;X-TITLE=Kureta
 ke Rooftop Restaurant:-6.254065;106.814197
END:VEVENT
END:VCALENDAR